BEGIN:VCALENDAR
VERSION:2.0
PRODID:-//RIGHTHERE//CALENDARIZE IT V3.2//EN
BEGIN:VEVENT
UID:314-events@got2dance.ca
DTSTART:20160915T021500Z
DTEND:20160915T030000Z
DTSTAMP:20160905T094832Z
SUMMARY:SR Jazz Choreo
RRULE:FREQ=WEEKLY;INTERVAL=1
URL:https://got2dance.ca/events/sr-jazz-choreo/
LOCATION:Studio B
END:VEVENT
END:VCALENDAR