BEGIN:VCALENDAR
VERSION:2.0
PRODID:-//RIGHTHERE//CALENDARIZE IT V3.2//EN
BEGIN:VEVENT
UID:338-events@got2dance.ca
DTSTART:20160916T011500Z
DTEND:20160916T020000Z
DTSTAMP:20160905T100316Z
SUMMARY:INT Jazz Choreo
RRULE:FREQ=WEEKLY;INTERVAL=1
URL:https://got2dance.ca/events/int-jazz-choreo/
LOCATION:Studio B
END:VEVENT
END:VCALENDAR