BEGIN:VCALENDAR
VERSION:2.0
PRODID:-//RIGHTHERE//CALENDARIZE IT V3.2//EN
BEGIN:VEVENT
UID:481-events@got2dance.ca
DTSTART;VALUE=DATE:20170327
DTEND;VALUE=DATE:20170331
DTSTAMP:20170108T110109Z
SUMMARY:Spring Break: studio closed
URL:https://got2dance.ca/events/spring-break-studio-closed/
END:VEVENT
END:VCALENDAR