BEGIN:VCALENDAR
VERSION:2.0
PRODID:-//RIGHTHERE//CALENDARIZE IT V3.2//EN
BEGIN:VEVENT
UID:611-events@got2dance.ca
DTSTART:20171010T234500Z
DTEND:20171011T003000Z
DTSTAMP:20170912T032756Z
SUMMARY:Variety begins! (PA Back 2 Basics dancers only)
URL:https://got2dance.ca/events/variety-begins-pa-back-2-basics-dancers-onl
 y/
END:VEVENT
END:VCALENDAR