BEGIN:VCALENDAR
VERSION:2.0
PRODID:-//RIGHTHERE//CALENDARIZE IT V3.2//EN
BEGIN:VEVENT
UID:672-events@got2dance.ca
DTSTART;VALUE=DATE:20180219
DTEND;VALUE=DATE:20180223
DTSTAMP:20180104T211926Z
SUMMARY:Winter Break – studio closed!
URL:https://got2dance.ca/events/winter-break-studio-closed-2/
END:VEVENT
END:VCALENDAR