BEGIN:VCALENDAR
VERSION:2.0
PRODID:-//RIGHTHERE//CALENDARIZE IT V3.2//EN
BEGIN:VEVENT
UID:814-events@got2dance.ca
DTSTART;VALUE=DATE:20181221
DTEND;VALUE=DATE:20190107
DTSTAMP:20181030T011311Z
SUMMARY:Christmas break – studio closed!
URL:https://got2dance.ca/events/christmas-break-studio-closed-3/
END:VEVENT
END:VCALENDAR